BEGIN:VCALENDAR
VERSION:2.0
PRODID:-//wp-events-plugin.com//7.2.3.1//EN
BEGIN:VEVENT
UID:8@innernepalcircle.com
DTSTART:20251219T041500Z
DTEND:20251221T041500Z
DTSTAMP:20251129T003031Z
URL:https://innernepalcircle.com/events/4th-edition-nepal-food-and-beverag
 e-international-expo-2025/
SUMMARY:4th Edition Nepal Food and Beverage International Expo 2025
DESCRIPTION:\n4th Edition Nepal Food and Beverage International Expo 2025\n
 Nepal Food &amp\; Beverages Expo 2025The Nepal’s International Food &amp
 \; Beverages exhibition is an effective tool for increasing sales\, promot
 ing products\, and attracting new clients by making direct contact with a 
 large number of representatives from retail chains and wholesale businesse
 s interested in purchasing food products. With a large\, professional audi
 ence of retailers\, wholesalers\, dedicated importers\, and many more food
  &amp\; drink players\, Nepal Food &amp\; Beverages is the ultimate venue 
 for B2B transactions. Participate in Nepal Food &amp\; Beverages to find y
 our selling opportunities in Nepal’s highly lucrative market.\n&nbsp\;\n
 Also check out other events too.\n\n\n
ATTACH;FMTTYPE=image/jpeg:https://i0.wp.com/innernepalcircle.com/wp-conten
 t/uploads/2025/11/Image-3.jpg?fit=240%2C90&ssl=1
CATEGORIES:Networking Events
LOCATION:Bhrikutimandap Exhibition hall\, Bhrikuti Mandap\, Kathmandu\, Nep
 al\, Nepal
X-APPLE-STRUCTURED-LOCATION;VALUE=URI;X-ADDRESS=Bhrikuti Mandap\, Kathmandu
 \, Nepal\, Nepal;X-APPLE-RADIUS=100;X-TITLE=Bhrikutimandap Exhibition hall
 :geo:0,0
END:VEVENT
END:VCALENDAR