BEGIN:VCALENDAR
VERSION:2.0
PRODID:-//wp-events-plugin.com//7.2.3.1//EN
BEGIN:VEVENT
UID:7@innernepalcircle.com
DTSTART:20251206T031500Z
DTEND:20251206T031500Z
DTSTAMP:20251129T002558Z
URL:https://innernepalcircle.com/events/apgn-2025-nepal-conference/
SUMMARY:APGN 2025 Nepal conference
DESCRIPTION:About the event\nAPGN 2025\nRegistration Open for APGN 2025 Nep
 al conference for Host Country Participation.Date: 6 th December 2025 (Reg
 istration Time: 8 to 9 AM\, Opening Session: 9 AM)Venue: The Malla Hotel\,
  KathmanduFurther Information Contact: Youraj Roka\, Geriatric Society of 
 Nepal\, Cell: 9801441000Register now by clicking the link: We look forward
  to welcoming you to this engaging and insightful event and to your valuab
 le contributions to the discussions!\n&nbsp\;\nAlso check out other Busine
 ss events in Kathmandu\, Conferences in Kathmandu.\n\n
ATTACH;FMTTYPE=image/jpeg:https://i0.wp.com/innernepalcircle.com/wp-conten
 t/uploads/2025/11/Image-2.jpg?fit=149%2C70&ssl=1
CATEGORIES:Networking Events
LOCATION:Malla Hotel\, Lekhnarth Marg\, Kathmandu\, Nepal\, Nepal
X-APPLE-STRUCTURED-LOCATION;VALUE=URI;X-ADDRESS=Lekhnarth Marg\, Kathmandu\
 , Nepal\, Nepal;X-APPLE-RADIUS=100;X-TITLE=Malla Hotel:geo:0,0
END:VEVENT
END:VCALENDAR