BEGIN:VCALENDAR
VERSION:2.0
PRODID:-//wp-events-plugin.com//7.2.3.1//EN
BEGIN:VEVENT
UID:13@innernepalcircle.com
DTSTART:20260302T061500Z
DTEND:20260302T141500Z
DTSTAMP:20260224T105516Z
URL:https://innernepalcircle.com/events/holi-music-festival/
SUMMARY:Holi Music Festival
DESCRIPTION:Click Here For Event Details And Tickets 
ATTACH;FMTTYPE=image/jpeg:https://i0.wp.com/innernepalcircle.com/wp-conten
 t/uploads/2026/02/Purple-and-Blue-Holi-Festival-Event-Poster-6.png?fit=158
 7%2C2245&ssl=1
LOCATION:Heritage Palace Banquet &amp\; Events\, Radhe Radhe \, Bhaktapur\,
  Bagmati\, Nepal
X-APPLE-STRUCTURED-LOCATION;VALUE=URI;X-ADDRESS=Radhe Radhe \, Bhaktapur\, 
 Bagmati\, Nepal;X-APPLE-RADIUS=100;X-TITLE=Heritage Palace Banquet & Event
 s:geo:0,0
END:VEVENT
END:VCALENDAR