BEGIN:VCALENDAR
VERSION:2.0
PRODID:-//wp-events-plugin.com//7.2.3.1//EN
BEGIN:VEVENT
UID:4@innernepalcircle.com
DTSTART:20251129T014500Z
DTEND:20251129T181400Z
DTSTAMP:20251128T095505Z
URL:https://innernepalcircle.com/events/kalu-pandey-dada-10k-fun-run/
SUMMARY:KALU PANDEY DADA | 10K | FUN RUN
DESCRIPTION:\n\n𝐊𝐀𝐋𝐔 𝐏𝐀𝐍𝐃𝐄𝐘 𝐃𝐀𝐃𝐀 
 | 𝟏𝟎𝐊 | 𝐅𝐔𝐍 𝐑𝐔𝐍𝗘𝘃𝗲𝗻𝘁 𝗖𝗮
 𝘁𝗲𝗴𝗼𝗿𝗶𝗲𝘀:* Under 18 Years – Open* Open Female: 1
 8–49 yrs* Open Male: 18–49 yrs* Veteran Female: 50–59 yrs* Veteran M
 ale: 50–59 yrs* Super Veteran Female: 60+ yrs* Super Veteran Male: 60+ y
 rs𝗘𝘃𝗲𝗻𝘁 𝗚𝗼𝗮𝗹:To grow trail running as a grassro
 ots sport in and around Kathmandu - making it fun\, inclusive\, and access
 ible for all.A part of every registration goes to the Runner Development F
 und - supporting the next generation of Nepali runners.DM or WhatsApp 9851
 427977 / 9851113000 for info.\nRegister now: https://docs.google.com/forms
 /d/e/1FAIpQLSdBJskzZwCajSms3ojyDYdoRZMHASUye-EYPXk2jOdkuzGLFA/viewform#KTM
 PeakTrail #KTMPeakTrail2025 #EverestMarathon #TrailRunningNepal #Kathmandu
 Trails #RunKathmandu #NepaliRunners #TrailCommunityNepal #RunForNepal #Gra
 ssrootsRunning #HimalayanTrails #TrailLifeNepal #RunTogetherGrowTogether #
 HimalayanRunning #KathmanduRun\n&nbsp\;\nAlso to check out other events in
  Nepal\, follow Inner Nepal Circle\n\n\n\n 
ATTACH;FMTTYPE=image/jpeg:https://i0.wp.com/innernepalcircle.com/wp-conten
 t/uploads/2025/11/IMG_3171-2.jpg?fit=300%2C377&ssl=1
CATEGORIES:Networking Events
LOCATION:Kalu Pandey\, Dahachowk\, Museum Marg\, Kathmandu\, Nepal\, Nepal
X-APPLE-STRUCTURED-LOCATION;VALUE=URI;X-ADDRESS=Dahachowk\, Museum Marg\, K
 athmandu\, Nepal\, Nepal;X-APPLE-RADIUS=100;X-TITLE=Kalu Pandey:geo:0,0
END:VEVENT
END:VCALENDAR