BEGIN:VCALENDAR
VERSION:2.0
PRODID:-//wp-events-plugin.com//7.2.3.1//EN
BEGIN:VEVENT
UID:1@innernepalcircle.com
DTSTART:20251120T181500Z
DTEND:20251121T180000Z
DTSTAMP:20251119T153823Z
URL:https://innernepalcircle.com/events/kuma-sagar-khwopa-live-traditional
 -fusion/
SUMMARY:Kuma Sagar & Khwopa: Live Traditional Fusion
DESCRIPTION:Experience the soul-stirring sounds of Nepal! Kuma Sagar and Th
 e Khwopa are bringing their mesmerising blend of traditional Nepali instru
 ments and contemporary fusion music to Thamel for one unforgettable night.
 \n\n\n 	 Time: 9:00 PM Onwards\n 	Tickets/Entry: Check with the venue for
  cover charge or ticket details!\n
LOCATION:XO Club\, Chaksibari Marg\, Thamel\, Kathmandu\, Nepal\, Nepal
X-APPLE-STRUCTURED-LOCATION;VALUE=URI;X-ADDRESS=Chaksibari Marg\, Thamel\, 
 Kathmandu\, Nepal\, Nepal;X-APPLE-RADIUS=100;X-TITLE=XO Club:geo:0,0
END:VEVENT
END:VCALENDAR