BEGIN:VCALENDAR
VERSION:2.0
PRODID:-//wp-events-plugin.com//7.2.3.1//EN
BEGIN:VEVENT
UID:10@innernepalcircle.com
DTSTART:20260218T170000Z
DTEND:20260218T181400Z
DTSTAMP:20260202T095144Z
URL:https://innernepalcircle.com/events/lawyers-after-hours/
SUMMARY:Lawyers After Hours
DESCRIPTION:
ATTACH;FMTTYPE=image/jpeg:https://i0.wp.com/innernepalcircle.com/wp-conten
 t/uploads/2026/02/Retro-Dazle-Night-Club-Logo-2.png?fit=500%2C500&ssl=1
CATEGORIES:Music,Networking Events
LOCATION:Thamel\, Thamel\, Kathmandu\, Nepal\, Nepal
X-APPLE-STRUCTURED-LOCATION;VALUE=URI;X-ADDRESS=Thamel\, Kathmandu\, Nepal\
 , Nepal;X-APPLE-RADIUS=100;X-TITLE=Thamel:geo:0,0
END:VEVENT
END:VCALENDAR