BEGIN:VCALENDAR
VERSION:2.0
PRODID:-//wp-events-plugin.com//7.2.3.1//EN
BEGIN:VEVENT
UID:6@innernepalcircle.com
DTSTART:20251219T121500Z
DTEND:20251219T141500Z
DTSTAMP:20251129T001156Z
URL:https://innernepalcircle.com/events/moot-alumni-get-together-in-lalitp
 ur-nepal/
SUMMARY:Moot Alumni Get-Together in Lalitpur\, Nepal
DESCRIPTION:The MAA is excited to be coming to Lalitpur\, Nepal for its nex
 t Get-Together!\nWe are happy to invite all Vis Moot alumni to join us for
  a remarkable evening in Lalitpur\, hosted at Mesohot-Global Cuisine &amp\
 ; Lounge Bar - to meet old and new friends\, reconnect and reminisce.\nThe
  Moot Alumni Get-Togethers are a new project launched by the MAA\, aiming 
 to strengthen the ties of the Moot Alumni community.\nGather your Vis Moot
  friends\, co-counsels and colleagues and come celebrate the MAA community
 !\nRegistration for the event is exclusive for MAA Members. If you are not
  a member\, sign-up for free at https://maa.net/membership. Please note th
 at the registration does not guarantee participation. The MAA will reach o
 ut soon to confirm your participation\, if a spot is available.\nPlease be
  aware that\, while attending the Get-Together is free of charge\, food an
 d beverages will need to be purchased directly from the venue at the cost 
 of the participant.\n&nbsp\;\nAnswer questions your attendees may have abo
 ut the event\, like accessibility and amenities.\n\n\n\n \n\n\n\n\n\n\n\n
 What are the Moot Alumni Get-Togethers?\n\n\n\n\n- The Moot Alumni Get-Tog
 ethers are events designed to bring the Vis Moot alumni together and fulfi
 l the MAA's mission to connect and help develop bonds between Vis Moot alu
 mni around the world.\n\n\n\n\n\n\n\n \n\n\n\n\n\n\n\nWho can register an
 d attend the Moot Alumni Get-Togethers?\n\n\n\n\n-Registration for the Moo
 t Alumni Get-Togethers is exclusive for MAA Members. If you are not a memb
 er\, sign-up for free at: https://maa.net/membership\n\n\n\n\n\n\n\n \n\n
 \n\n\n\n\n\nDo I need to be a premium MAA member to attend the Moot Alumni
  Get-Togethers?\n\n\n\n\n-No. The Moot Alumni Get-Togethers are open to al
 l MAA Members\, subject to capacity\, irrespective of being premium or fre
 e members.\n\n\n\n\n\n\n\n \n\n\n\n\n\n\n\nWill my city host a Moot Alumn
 i Get-Together?\n\n\n\n\n-The Moot Alumni Get-Togethers are an ongoing pro
 ject\, and the MAA cannot guarantee that it will be able to plan an event 
 in a particular location\, at a particular date or time\, or in a particul
 ar format. Checkout our social media platforms to learn more about the upc
 oming Moot Alumni Get-Togethers!\n\n\n\n\n\n
ATTACH;FMTTYPE=image/jpeg:https://i0.wp.com/innernepalcircle.com/wp-conten
 t/uploads/2025/11/Moot-Alumni-Get-Togethers-Event-Announcement-2-2.jpg?fit
 =288%2C288&ssl=1
CATEGORIES:Networking Events
LOCATION:Mesohot-Global Cuisine & Lounge Bar\, Sanepa\, Lalitpur \, Nepal\,
  Nepal
X-APPLE-STRUCTURED-LOCATION;VALUE=URI;X-ADDRESS=Sanepa\, Lalitpur \, Nepal\
 , Nepal;X-APPLE-RADIUS=100;X-TITLE=Mesohot-Global Cuisine & Lounge Bar:geo
 :0,0
END:VEVENT
END:VCALENDAR