BEGIN:VCALENDAR
VERSION:2.0
PRODID:-//wp-events-plugin.com//7.2.3.1//EN
BEGIN:VEVENT
UID:9@innernepalcircle.com
DTSTART:20251219T041500Z
DTEND:20251221T041500Z
DTSTAMP:20251129T003454Z
URL:https://innernepalcircle.com/events/nepal-wood-international-expo/
SUMMARY:Nepal Wood International Expo
DESCRIPTION:Nepal Wood International Expo\n\n11th Nepal Wood International 
 Expo 2025\nNepal Wood International Expo 2025 stands as Nepal’s largest 
 and most successful event\, showcasing the latest innovations and technolo
 gies\, serving as a pivotal platform for advancements in the wood\, woodwo
 rking furniture\, and interior design sectors. Exhibiting at this event co
 nnects participants with industry leaders in the region. Trade visitors\, 
 professionals\, and serious buyers from across the continent use Nepal Woo
 d International Expo to strengthen customer relationships\, network\, and 
 stay abreast of the latest technologies. Nepal Wood International Expo 202
 5 is organized by Futurex Group and Media Space Solutions.\nNote: Free Ent
 ry.\n\n\n \n
CATEGORIES:Networking Events
LOCATION:Bhrikuti Mandap\, Bhrikuti Mandap\, Kathmandu\, Nepal\, Nepal
X-APPLE-STRUCTURED-LOCATION;VALUE=URI;X-ADDRESS=Bhrikuti Mandap\, Kathmandu
 \, Nepal\, Nepal;X-APPLE-RADIUS=100;X-TITLE=Bhrikuti Mandap:geo:0,0
END:VEVENT
END:VCALENDAR