BEGIN:VCALENDAR
VERSION:2.0
PRODID:-//wp-events-plugin.com//7.2.3.1//EN
BEGIN:VEVENT
UID:2@innernepalcircle.com
DTSTART:20251119T044500Z
DTEND:20251119T104500Z
DTSTAMP:20251120T022910Z
URL:https://innernepalcircle.com/events/networking-for-impact-branngo-conf
 erence-in-kathmandu/
SUMMARY:Networking for Impact: BRANNGO Conference in Kathmandu
DESCRIPTION:Are you an NGO representative\, a social entrepreneur\, or an S
 ME working in the Nepal-UK sector? Join the Britain and Nepal NGO Network 
 (BRANNGO) for a focused day of presentations\, discussions\, and networkin
 g opportunities.\nThis is a vital platform for collaboration and strengthe
 ning philanthropic efforts across the UK and Nepal.\n\n\n 	Time: 10:30 AM 
 – 4:30 PM (GMT + 5:45)\n 	Note: Tickets required. Check the BRANNGO or B
 ritish Embassy Kathmandu websites for last-minute registration.\n
CATEGORIES:Networking Events
LOCATION:The British Embassy\, Lainchaur\, Kathmandu\, Nepal\, Asia\, Nepal
X-APPLE-STRUCTURED-LOCATION;VALUE=URI;X-ADDRESS=Lainchaur\, Kathmandu\, Nep
 al\, Asia\, Nepal;X-APPLE-RADIUS=100;X-TITLE=The British Embassy:geo:0,0
END:VEVENT
END:VCALENDAR