BEGIN:VCALENDAR
VERSION:2.0
PRODID:-//wp-events-plugin.com//7.2.3.1//EN
BEGIN:VEVENT
UID:3@innernepalcircle.com
DTSTART:20251122T171500Z
DTEND:20251122T171500Z
DTSTAMP:20251120T021740Z
URL:https://innernepalcircle.com/events/stay-up-sleepless-by-alladin-event
 s/
SUMMARY:Stay Up: Sleepless by Alladin Events
DESCRIPTION:\n\nGenre: House / Techno\n\n\nTickets/Entry: Check Club NOVA's
  website or social media for booking details!\n\n
ATTACH;FMTTYPE=image/jpeg:https://i0.wp.com/innernepalcircle.com/wp-conten
 t/uploads/2025/11/IMG_2890-8.jpg?fit=482%2C600&ssl=1
CATEGORIES:Music
LOCATION:Club NOVA\, Club NOVA\, Thamel (The Universe of Nightlife)\, Kathm
 andu\, Nepal\, Nepal
X-APPLE-STRUCTURED-LOCATION;VALUE=URI;X-ADDRESS=Club NOVA\, Thamel (The Uni
 verse of Nightlife)\, Kathmandu\, Nepal\, Nepal;X-APPLE-RADIUS=100;X-TITLE
 =Club NOVA:geo:0,0
END:VEVENT
END:VCALENDAR