BEGIN:VCALENDAR
VERSION:2.0
PRODID:-//wp-events-plugin.com//7.2.3.1//EN
BEGIN:VEVENT
UID:5@innernepalcircle.com
DTSTART:20251128T041500Z
DTEND:20251128T041500Z
DTSTAMP:20251128T101022Z
URL:https://innernepalcircle.com/events/tri-ucu-mega-information-day-2025/
SUMMARY:TRI-UCU Mega Information Day 2025
DESCRIPTION:TRI-UCU Mega Information Day 2025\n𝐉𝐨𝐢𝐧 𝐮𝐬 
 𝐚𝐭 𝐭𝐡𝐞 𝐓𝐑𝐈-𝐔𝐂𝐔 𝐌𝐞𝐠𝐚 𝐈𝐧
 𝐟𝐨𝐫𝐦𝐚𝐭𝐢𝐨𝐧 𝐃𝐚𝐲 𝐨𝐧 𝐍𝐨𝐯
 𝐞𝐦𝐛𝐞𝐫 𝟐𝟖\, 𝟐𝟎𝟐𝟓!Meet university represent
 atives from the 𝐔𝐊\, 𝐂𝐚𝐧𝐚𝐝𝐚 𝐚𝐧𝐝 𝐭𝐡
 𝐞 𝐔𝐒𝐀 for 𝐨𝐧𝐞-𝐨𝐧-𝐨𝐧𝐞 𝐜𝐨𝐮𝐧
 𝐬𝐞𝐥𝐥𝐢𝐧𝐠. Get exclusive 𝐝𝐢𝐬𝐜𝐨𝐮𝐧
 𝐭𝐬 𝐨𝐧 𝐈𝐄𝐋𝐓𝐒 𝐚𝐧𝐝 𝐏𝐓𝐄\, enjoy 
 𝐠𝐢𝐟𝐭 𝐡𝐚𝐦𝐩𝐞𝐫𝐬 and explore the best study o
 ptions abroad.𝐅𝐫𝐞𝐞 𝐞𝐧𝐭𝐫𝐲.Visit us at 𝐊𝐆 
 𝐁𝐮𝐢𝐥𝐝𝐢𝐧𝐠\, 𝐁𝐚𝐠𝐛𝐚𝐳𝐚𝐫-𝟐
 𝟖\, 𝐊𝐚𝐭𝐡𝐦𝐚𝐧𝐝𝐮.Register now and secure your s
 pot.
ATTACH;FMTTYPE=image/jpeg:https://i0.wp.com/innernepalcircle.com/wp-conten
 t/uploads/2025/11/Image.jpeg?fit=699%2C400&ssl=1
LOCATION:KG Building\, Bagbazar\, Kathmandu\, Nepal\, Nepal
X-APPLE-STRUCTURED-LOCATION;VALUE=URI;X-ADDRESS=Bagbazar\, Kathmandu\, Nepa
 l\, Nepal;X-APPLE-RADIUS=100;X-TITLE=KG Building:geo:0,0
END:VEVENT
END:VCALENDAR